BEGIN:VCALENDAR
VERSION:2.0
PRODID:icalendar-ruby
CALSCALE:GREGORIAN
BEGIN:VEVENT
DTSTAMP:20260419T154534Z
UID:f4b0ad4b-48ca-4898-aa27-a090af70a27c
DTSTART;VALUE=DATE:20250430
DESCRIPTION:Property ID# 591023\, Locatoin: Harcourts Wellington City Offic
 e (unless sold prior)\, Time: 2:00PM
SUMMARY:Auction for 
END:VEVENT
END:VCALENDAR
