BEGIN:VCALENDAR
VERSION:2.0
PRODID:icalendar-ruby
CALSCALE:GREGORIAN
BEGIN:VEVENT
DTSTAMP:20260419T131605Z
UID:33a47779-7fbd-4fdf-90b7-42d86e132d63
DTSTART;VALUE=DATE:20210708
DESCRIPTION:Property ID# 512374\, Time: 10:00AM
SUMMARY:Auction for 
END:VEVENT
END:VCALENDAR
