BEGIN:VCALENDAR
VERSION:2.0
PRODID:icalendar-ruby
CALSCALE:GREGORIAN
BEGIN:VEVENT
DTSTAMP:20260421T125850Z
UID:e35c34d1-b4b5-445d-994b-ec616b10fcdf
DTSTART;VALUE=DATE:20200227
DESCRIPTION:Property ID# 468812\, Time: 12:00PM
SUMMARY:Auction for 
END:VEVENT
END:VCALENDAR
